BEGIN:VCALENDAR
VERSION:2.0
PRODID:-//Buntport Theater - ECPv6.15.20//NONSGML v1.0//EN
CALSCALE:GREGORIAN
METHOD:PUBLISH
X-WR-CALNAME:Buntport Theater
X-ORIGINAL-URL:https://buntport.com
X-WR-CALDESC:Events for Buntport Theater
REFRESH-INTERVAL;VALUE=DURATION:PT1H
X-Robots-Tag:noindex
X-PUBLISHED-TTL:PT1H
BEGIN:VTIMEZONE
TZID:America/Denver
BEGIN:DAYLIGHT
TZOFFSETFROM:-0700
TZOFFSETTO:-0600
TZNAME:MDT
DTSTART:20200308T090000
END:DAYLIGHT
BEGIN:STANDARD
TZOFFSETFROM:-0600
TZOFFSETTO:-0700
TZNAME:MST
DTSTART:20201101T080000
END:STANDARD
BEGIN:DAYLIGHT
TZOFFSETFROM:-0700
TZOFFSETTO:-0600
TZNAME:MDT
DTSTART:20210314T090000
END:DAYLIGHT
BEGIN:STANDARD
TZOFFSETFROM:-0600
TZOFFSETTO:-0700
TZNAME:MST
DTSTART:20211107T080000
END:STANDARD
BEGIN:DAYLIGHT
TZOFFSETFROM:-0700
TZOFFSETTO:-0600
TZNAME:MDT
DTSTART:20220313T090000
END:DAYLIGHT
BEGIN:STANDARD
TZOFFSETFROM:-0600
TZOFFSETTO:-0700
TZNAME:MST
DTSTART:20221106T080000
END:STANDARD
END:VTIMEZONE
BEGIN:VEVENT
DTSTART;TZID=America/Denver:20210120T200000
DTEND;TZID=America/Denver:20210120T210000
DTSTAMP:20260425T071437
CREATED:20210105T064220Z
LAST-MODIFIED:20210118T154633Z
UID:10000277-1611172800-1611176400@buntport.com
SUMMARY:The Narrators: "Expiration Date" (Virtual)
DESCRIPTION:It’s our first show of 2021—on the evening of inauguration day—so please join us for a special showcase of true stories based on the theme “Expiration Date.” \nWEDNESDAY\, 20 JANUARY 2020\n8:00pm Mountain\, FREE\nOnline (Join mailing list or RSVP below for link!)\n \nHere’s the lineup: \nSydney Crain\nEmily McNeil\nEli Zain \n…and your hosts\, Ron Doyle and Erin Rollman. \nDETAILS \n• The show is free; please join our mailing list and/or RSVP to receive login instructions.\n• We will email the login instructions on Wednesday around 7:00pm (show starts at 8:00pm)\n• You are welcome to share the link with trusted friends!\n• NEW FOR 2021: We have a limited number of spots available in our “visible” audience—if you’re willing to be seen and heard during the show\, we need your help! \nQUESTIONS? \n• Happy to answer! Just email us: info@thenarrators.org \nABOUT THE NARRATORS \nThe Narrators is a live storytelling show and podcast based in Denver\, Colorado. Hosted by Ron S. Doyle and Erin Rollman. Comedians\, actors\, musicians\, writers\, and other fascinating folks share true stories from their lives\, centered on a monthly theme. \nLearn more and listen to the podcast at thenarrators.org. \nNOTE: Only one RSVP needed per household or viewing group!
URL:https://buntport.com/show/the-narrators-expiration-date-virtual/
LOCATION:Virtual\, 717 Lipan Street\, Denver\, CO\, 80204\, United States
CATEGORIES:off-night
ATTACH;FMTTYPE=image/png:https://buntport.com/wp-content/uploads/2021/01/narrators-expiration-date-fb-full-2021.png
ORGANIZER;CN="The Narrators":MAILTO:info@thenarrators.org
END:VEVENT
END:VCALENDAR