BEGIN:VCALENDAR
VERSION:2.0
PRODID:-//Buntport Theater - ECPv6.15.20//NONSGML v1.0//EN
CALSCALE:GREGORIAN
METHOD:PUBLISH
X-ORIGINAL-URL:https://buntport.com
X-WR-CALDESC:Events for Buntport Theater
REFRESH-INTERVAL;VALUE=DURATION:PT1H
X-Robots-Tag:noindex
X-PUBLISHED-TTL:PT1H
BEGIN:VTIMEZONE
TZID:America/Denver
BEGIN:DAYLIGHT
TZOFFSETFROM:-0700
TZOFFSETTO:-0600
TZNAME:MDT
DTSTART:20250309T090000
END:DAYLIGHT
BEGIN:STANDARD
TZOFFSETFROM:-0600
TZOFFSETTO:-0700
TZNAME:MST
DTSTART:20251102T080000
END:STANDARD
BEGIN:DAYLIGHT
TZOFFSETFROM:-0700
TZOFFSETTO:-0600
TZNAME:MDT
DTSTART:20260308T090000
END:DAYLIGHT
BEGIN:STANDARD
TZOFFSETFROM:-0600
TZOFFSETTO:-0700
TZNAME:MST
DTSTART:20261101T080000
END:STANDARD
BEGIN:DAYLIGHT
TZOFFSETFROM:-0700
TZOFFSETTO:-0600
TZNAME:MDT
DTSTART:20270314T090000
END:DAYLIGHT
BEGIN:STANDARD
TZOFFSETFROM:-0600
TZOFFSETTO:-0700
TZNAME:MST
DTSTART:20271107T080000
END:STANDARD
END:VTIMEZONE
BEGIN:VEVENT
DTSTART;TZID=America/Denver:20260415T200000
DTEND;TZID=America/Denver:20260415T213000
DTSTAMP:20260423T020233
CREATED:20260407T000820Z
LAST-MODIFIED:20260414T223724Z
UID:10002516-1776283200-1776288600@buntport.com
SUMMARY:CANCELED | The Narrators: Facepalm
DESCRIPTION:Due to unforeseen circumstances\, this month’s show has been canceled. All tickets will be transferred to next month’s show\, our 16th anniversary on May 20th. Our sincerest apologies for the inconvenience!\nMORE QUESTIONS? \n• Visit our FAQ or email us: info@thenarrators.org \nABOUT THE NARRATORS\nThe Narrators is a live storytelling show and podcast based in Denver\, Colorado. Hosted by Erin Rollman\, Andrew Orvedahl\, and Ron S. Doyle. Comedians\, actors\, musicians\, writers\, and other fascinating folks share true stories from their lives\, centered on a monthly theme. Learn more and listen to the podcast at thenarrators.org. \nDoors at 7:30pm • Show at 8:00pm
URL:https://buntport.com/show/the-narrators-facepalm/
LOCATION:Buntport Theater\, 717 Lipan Street\, Denver\, CO\, 80204\, United States
CATEGORIES:off-night
ATTACH;FMTTYPE=image/jpeg:https://buntport.com/wp-content/uploads/2026/04/Narrators-Facepalm-April-2026.jpg
ORGANIZER;CN="The Narrators":MAILTO:info@thenarrators.org
GEO:39.7277742;-105.0020391
X-APPLE-STRUCTURED-LOCATION;VALUE=URI;X-ADDRESS=Buntport Theater 717 Lipan Street Denver CO 80204 United States;X-APPLE-RADIUS=500;X-TITLE=717 Lipan Street:geo:-105.0020391,39.7277742
END:VEVENT
BEGIN:VEVENT
DTSTART;TZID=America/Denver:20260421T193000
DTEND;TZID=America/Denver:20260421T210000
DTSTAMP:20260423T020233
CREATED:20251121T224807Z
LAST-MODIFIED:20260420T185219Z
UID:10002491-1776799800-1776805200@buntport.com
SUMMARY:The Great Debate- Simon Says VS Garfunkel
DESCRIPTION:The Great Debate pits teams of non-experts head-to-head\, toe-to-toe\, and often dumb-and-dumber in lively debates of the inconsequential. Mundane topics are brought to life by ordinary\, but opinionated folks. You’re bound to be a flip-flopper after listening to compelling arguments on things that never mattered. \n**Even if tickets are sold-out there might still be floor seating and wait list seats available. Come to the theater at 7pm!**
URL:https://buntport.com/show/the-great-debate-18/
LOCATION:Buntport Theater\, 717 Lipan Street\, Denver\, CO\, 80204\, United States
CATEGORIES:Third Tuesdays
ATTACH;FMTTYPE=image/jpeg:https://buntport.com/wp-content/uploads/2016/07/nixon-tv-debate-with-kennedy-scaled.jpg
GEO:39.7277742;-105.0020391
X-APPLE-STRUCTURED-LOCATION;VALUE=URI;X-ADDRESS=Buntport Theater 717 Lipan Street Denver CO 80204 United States;X-APPLE-RADIUS=500;X-TITLE=717 Lipan Street:geo:-105.0020391,39.7277742
END:VEVENT
BEGIN:VEVENT
DTSTART;TZID=America/Denver:20260520T200000
DTEND;TZID=America/Denver:20260520T213000
DTSTAMP:20260423T020233
CREATED:20260407T044343Z
LAST-MODIFIED:20260407T044343Z
UID:10002517-1779307200-1779312600@buntport.com
SUMMARY:The Narrators: Deluxe (16th Anniversary)
DESCRIPTION:Doors at 7:30pm\, show starts at 8:00pm \nJoin us for our 16th anniversary special! The theme of the evening will be “DELUXE.” \nTICKETS\n• Name your own price! Get your tickets below.\n• A ticket guarantees access to a seat. All seating is general admission; you may choose where to sit.\n• If general admission seating is sold out\, floor seating will be available for free\, no reservation required (space permitting). \nAT THE VENUE \n• Masks are not required but welcome.\n• Beer and wine will be available by donation. \nMORE QUESTIONS? \n• Visit our FAQ or email us: info@thenarrators.org \nABOUT THE NARRATORS\nThe Narrators is a live storytelling show and podcast based in Denver\, Colorado. Hosted by Erin Rollman\, Andrew Orvedahl\, and Ron S. Doyle. Comedians\, actors\, musicians\, writers\, and other fascinating folks share true stories from their lives\, centered on a monthly theme. Learn more and listen to the podcast at thenarrators.org. \nDoors at 7:30pm • Show at 8:00pm
URL:https://buntport.com/show/the-narrators-deluxe/
LOCATION:Buntport Theater\, 717 Lipan Street\, Denver\, CO\, 80204\, United States
CATEGORIES:off-night
ATTACH;FMTTYPE=image/jpeg:https://buntport.com/wp-content/uploads/2026/04/narrators-deluxe-may-2026.jpg
ORGANIZER;CN="The Narrators":MAILTO:info@thenarrators.org
GEO:39.7277742;-105.0020391
X-APPLE-STRUCTURED-LOCATION;VALUE=URI;X-ADDRESS=Buntport Theater 717 Lipan Street Denver CO 80204 United States;X-APPLE-RADIUS=500;X-TITLE=717 Lipan Street:geo:-105.0020391,39.7277742
END:VEVENT
BEGIN:VEVENT
DTSTART;TZID=America/Denver:20260522T193000
DTEND;TZID=America/Denver:20260522T210000
DTSTAMP:20260423T020233
CREATED:20260407T203852Z
LAST-MODIFIED:20260407T203852Z
UID:10002518-1779478200-1779483600@buntport.com
SUMMARY:This Is The Day '91
DESCRIPTION:A comedy with a little bit of nostalgia\, your daily dose of Carrageenan\, and a horse named Markham. \n 
URL:https://buntport.com/show/this-is-the-day-91-2/
LOCATION:Buntport Theater\, 717 Lipan Street\, Denver\, CO\, 80204\, United States
CATEGORIES:Main Stage
ATTACH;FMTTYPE=image/jpeg:https://buntport.com/wp-content/uploads/2026/04/91-scaled.jpg
GEO:39.7277742;-105.0020391
X-APPLE-STRUCTURED-LOCATION;VALUE=URI;X-ADDRESS=Buntport Theater 717 Lipan Street Denver CO 80204 United States;X-APPLE-RADIUS=500;X-TITLE=717 Lipan Street:geo:-105.0020391,39.7277742
END:VEVENT
BEGIN:VEVENT
DTSTART;TZID=America/Denver:20260523T193000
DTEND;TZID=America/Denver:20260523T210000
DTSTAMP:20260423T020233
CREATED:20260407T204115Z
LAST-MODIFIED:20260407T204115Z
UID:10002519-1779564600-1779570000@buntport.com
SUMMARY:This Is The Day '91
DESCRIPTION:A comedy with a little bit of nostalgia\, your daily dose of Carrageenan\, and a horse named Markham. \n 
URL:https://buntport.com/show/this-is-the-day-91-3/
LOCATION:Buntport Theater\, 717 Lipan Street\, Denver\, CO\, 80204\, United States
CATEGORIES:Main Stage
ATTACH;FMTTYPE=image/jpeg:https://buntport.com/wp-content/uploads/2026/04/91-scaled.jpg
GEO:39.7277742;-105.0020391
X-APPLE-STRUCTURED-LOCATION;VALUE=URI;X-ADDRESS=Buntport Theater 717 Lipan Street Denver CO 80204 United States;X-APPLE-RADIUS=500;X-TITLE=717 Lipan Street:geo:-105.0020391,39.7277742
END:VEVENT
BEGIN:VEVENT
DTSTART;TZID=America/Denver:20260524T140000
DTEND;TZID=America/Denver:20260524T153000
DTSTAMP:20260423T020233
CREATED:20260407T204210Z
LAST-MODIFIED:20260407T204210Z
UID:10002520-1779631200-1779636600@buntport.com
SUMMARY:This Is The Day '91
DESCRIPTION:A comedy with a little bit of nostalgia\, your daily dose of Carrageenan\, and a horse named Markham. \n 
URL:https://buntport.com/show/this-is-the-day-91-4/
LOCATION:Buntport Theater\, 717 Lipan Street\, Denver\, CO\, 80204\, United States
CATEGORIES:Main Stage
ATTACH;FMTTYPE=image/jpeg:https://buntport.com/wp-content/uploads/2026/04/91-scaled.jpg
GEO:39.7277742;-105.0020391
X-APPLE-STRUCTURED-LOCATION;VALUE=URI;X-ADDRESS=Buntport Theater 717 Lipan Street Denver CO 80204 United States;X-APPLE-RADIUS=500;X-TITLE=717 Lipan Street:geo:-105.0020391,39.7277742
END:VEVENT
BEGIN:VEVENT
DTSTART;TZID=America/Denver:20260529T193000
DTEND;TZID=America/Denver:20260529T210000
DTSTAMP:20260423T020233
CREATED:20260407T204346Z
LAST-MODIFIED:20260407T210631Z
UID:10002635-1780083000-1780088400@buntport.com
SUMMARY:This Is The Day '91 (w/ ASL interpretation)
DESCRIPTION:A comedy with a little bit of nostalgia\, your daily dose of Carrageenan\, and a horse named Markham. \nThis performance includes ASL interpretation.\n**If you are using the ASL services\, please indicate that in the notes section so we can reserve a spot with the best sight lines to the interpreters.
URL:https://buntport.com/show/this-is-the-day-91-5/
LOCATION:Buntport Theater\, 717 Lipan Street\, Denver\, CO\, 80204\, United States
CATEGORIES:Main Stage
ATTACH;FMTTYPE=image/jpeg:https://buntport.com/wp-content/uploads/2026/04/91-scaled.jpg
GEO:39.7277742;-105.0020391
X-APPLE-STRUCTURED-LOCATION;VALUE=URI;X-ADDRESS=Buntport Theater 717 Lipan Street Denver CO 80204 United States;X-APPLE-RADIUS=500;X-TITLE=717 Lipan Street:geo:-105.0020391,39.7277742
END:VEVENT
BEGIN:VEVENT
DTSTART;TZID=America/Denver:20260530T193000
DTEND;TZID=America/Denver:20260530T210000
DTSTAMP:20260423T020233
CREATED:20260407T204607Z
LAST-MODIFIED:20260407T204658Z
UID:10002636-1780169400-1780174800@buntport.com
SUMMARY:This Is The Day '91
DESCRIPTION:A comedy with a little bit of nostalgia\, your daily dose of Carrageenan\, and a horse named Markham. \n 
URL:https://buntport.com/show/this-is-the-day-91-6/
LOCATION:Buntport Theater\, 717 Lipan Street\, Denver\, CO\, 80204\, United States
CATEGORIES:Main Stage
ATTACH;FMTTYPE=image/jpeg:https://buntport.com/wp-content/uploads/2026/04/91-scaled.jpg
GEO:39.7277742;-105.0020391
X-APPLE-STRUCTURED-LOCATION;VALUE=URI;X-ADDRESS=Buntport Theater 717 Lipan Street Denver CO 80204 United States;X-APPLE-RADIUS=500;X-TITLE=717 Lipan Street:geo:-105.0020391,39.7277742
END:VEVENT
BEGIN:VEVENT
DTSTART;TZID=America/Denver:20260531T140000
DTEND;TZID=America/Denver:20260531T153000
DTSTAMP:20260423T020233
CREATED:20260407T204805Z
LAST-MODIFIED:20260407T210711Z
UID:10002523-1780236000-1780241400@buntport.com
SUMMARY:This Is The Day '91 (W/ Audio Description)
DESCRIPTION:A comedy with a little bit of nostalgia\, your daily dose of Carrageenan\, and a horse named Markham. \nThis performance is presented with Audio description.\n**If you are using the audio description services\, please indicate that in the notes section so we can ensure you a headset.
URL:https://buntport.com/show/this-is-the-day-91-7/
LOCATION:Buntport Theater\, 717 Lipan Street\, Denver\, CO\, 80204\, United States
CATEGORIES:Main Stage
ATTACH;FMTTYPE=image/jpeg:https://buntport.com/wp-content/uploads/2026/04/91-scaled.jpg
GEO:39.7277742;-105.0020391
X-APPLE-STRUCTURED-LOCATION;VALUE=URI;X-ADDRESS=Buntport Theater 717 Lipan Street Denver CO 80204 United States;X-APPLE-RADIUS=500;X-TITLE=717 Lipan Street:geo:-105.0020391,39.7277742
END:VEVENT
BEGIN:VEVENT
DTSTART;TZID=America/Denver:20260605T193000
DTEND;TZID=America/Denver:20260605T210000
DTSTAMP:20260423T020233
CREATED:20260407T204909Z
LAST-MODIFIED:20260407T205108Z
UID:10002637-1780687800-1780693200@buntport.com
SUMMARY:This Is The Day '91
DESCRIPTION:A comedy with a little bit of nostalgia\, your daily dose of Carrageenan\, and a horse named Markham. \n 
URL:https://buntport.com/show/this-is-the-day-91-8/
LOCATION:Buntport Theater\, 717 Lipan Street\, Denver\, CO\, 80204\, United States
CATEGORIES:Main Stage
ATTACH;FMTTYPE=image/jpeg:https://buntport.com/wp-content/uploads/2026/04/91-scaled.jpg
GEO:39.7277742;-105.0020391
X-APPLE-STRUCTURED-LOCATION;VALUE=URI;X-ADDRESS=Buntport Theater 717 Lipan Street Denver CO 80204 United States;X-APPLE-RADIUS=500;X-TITLE=717 Lipan Street:geo:-105.0020391,39.7277742
END:VEVENT
BEGIN:VEVENT
DTSTART;TZID=America/Denver:20260606T193000
DTEND;TZID=America/Denver:20260606T210000
DTSTAMP:20260423T020233
CREATED:20260407T205219Z
LAST-MODIFIED:20260407T205219Z
UID:10002641-1780774200-1780779600@buntport.com
SUMMARY:This Is The Day '91
DESCRIPTION:A comedy with a little bit of nostalgia\, your daily dose of Carrageenan\, and a horse named Markham. \n 
URL:https://buntport.com/show/this-is-the-day-91-9/
LOCATION:Buntport Theater\, 717 Lipan Street\, Denver\, CO\, 80204\, United States
CATEGORIES:Main Stage
ATTACH;FMTTYPE=image/jpeg:https://buntport.com/wp-content/uploads/2026/04/91-scaled.jpg
GEO:39.7277742;-105.0020391
X-APPLE-STRUCTURED-LOCATION;VALUE=URI;X-ADDRESS=Buntport Theater 717 Lipan Street Denver CO 80204 United States;X-APPLE-RADIUS=500;X-TITLE=717 Lipan Street:geo:-105.0020391,39.7277742
END:VEVENT
BEGIN:VEVENT
DTSTART;TZID=America/Denver:20260607T140000
DTEND;TZID=America/Denver:20260607T153000
DTSTAMP:20260423T020233
CREATED:20260407T205339Z
LAST-MODIFIED:20260407T205339Z
UID:10002526-1780840800-1780846200@buntport.com
SUMMARY:This Is The Day '91
DESCRIPTION:A comedy with a little bit of nostalgia\, your daily dose of Carrageenan\, and a horse named Markham. \n 
URL:https://buntport.com/show/this-is-the-day-91-10/
LOCATION:Buntport Theater\, 717 Lipan Street\, Denver\, CO\, 80204\, United States
CATEGORIES:Main Stage
ATTACH;FMTTYPE=image/jpeg:https://buntport.com/wp-content/uploads/2026/04/91-scaled.jpg
GEO:39.7277742;-105.0020391
X-APPLE-STRUCTURED-LOCATION;VALUE=URI;X-ADDRESS=Buntport Theater 717 Lipan Street Denver CO 80204 United States;X-APPLE-RADIUS=500;X-TITLE=717 Lipan Street:geo:-105.0020391,39.7277742
END:VEVENT
BEGIN:VEVENT
DTSTART;TZID=America/Denver:20260608T193000
DTEND;TZID=America/Denver:20260608T210000
DTSTAMP:20260423T020233
CREATED:20260407T205518Z
LAST-MODIFIED:20260407T205518Z
UID:10002634-1780947000-1780952400@buntport.com
SUMMARY:This Is The Day '91
DESCRIPTION:A comedy with a little bit of nostalgia\, your daily dose of Carrageenan\, and a horse named Markham. \n 
URL:https://buntport.com/show/this-is-the-day-91-11/
LOCATION:Buntport Theater\, 717 Lipan Street\, Denver\, CO\, 80204\, United States
CATEGORIES:Main Stage
ATTACH;FMTTYPE=image/jpeg:https://buntport.com/wp-content/uploads/2026/04/91-scaled.jpg
GEO:39.7277742;-105.0020391
X-APPLE-STRUCTURED-LOCATION;VALUE=URI;X-ADDRESS=Buntport Theater 717 Lipan Street Denver CO 80204 United States;X-APPLE-RADIUS=500;X-TITLE=717 Lipan Street:geo:-105.0020391,39.7277742
END:VEVENT
BEGIN:VEVENT
DTSTART;TZID=America/Denver:20260612T193000
DTEND;TZID=America/Denver:20260612T210000
DTSTAMP:20260423T020233
CREATED:20260407T205633Z
LAST-MODIFIED:20260407T205633Z
UID:10002646-1781292600-1781298000@buntport.com
SUMMARY:This Is The Day '91
DESCRIPTION:A comedy with a little bit of nostalgia\, your daily dose of Carrageenan\, and a horse named Markham. \n 
URL:https://buntport.com/show/this-is-the-day-91-12/
LOCATION:Buntport Theater\, 717 Lipan Street\, Denver\, CO\, 80204\, United States
CATEGORIES:Main Stage
ATTACH;FMTTYPE=image/jpeg:https://buntport.com/wp-content/uploads/2026/04/91-scaled.jpg
GEO:39.7277742;-105.0020391
X-APPLE-STRUCTURED-LOCATION;VALUE=URI;X-ADDRESS=Buntport Theater 717 Lipan Street Denver CO 80204 United States;X-APPLE-RADIUS=500;X-TITLE=717 Lipan Street:geo:-105.0020391,39.7277742
END:VEVENT
BEGIN:VEVENT
DTSTART;TZID=America/Denver:20260613T193000
DTEND;TZID=America/Denver:20260613T210000
DTSTAMP:20260423T020233
CREATED:20260407T205806Z
LAST-MODIFIED:20260407T210605Z
UID:10002647-1781379000-1781384400@buntport.com
SUMMARY:This Is The Day '91 (W/ Captions)
DESCRIPTION:A comedy with a little bit of nostalgia\, your daily dose of Carrageenan\, and a horse named Markham. \nThis performance includes captioning.\n**If you are using the caption services\, please indicate that in the notes section so we can reserve a spot with the best sight lines to the captions.
URL:https://buntport.com/show/this-is-the-day-91-13/
LOCATION:Buntport Theater\, 717 Lipan Street\, Denver\, CO\, 80204\, United States
CATEGORIES:Main Stage
ATTACH;FMTTYPE=image/jpeg:https://buntport.com/wp-content/uploads/2026/04/91-scaled.jpg
GEO:39.7277742;-105.0020391
X-APPLE-STRUCTURED-LOCATION;VALUE=URI;X-ADDRESS=Buntport Theater 717 Lipan Street Denver CO 80204 United States;X-APPLE-RADIUS=500;X-TITLE=717 Lipan Street:geo:-105.0020391,39.7277742
END:VEVENT
BEGIN:VEVENT
DTSTART;TZID=America/Denver:20260614T140000
DTEND;TZID=America/Denver:20260614T153000
DTSTAMP:20260423T020233
CREATED:20260407T205917Z
LAST-MODIFIED:20260407T210808Z
UID:10002529-1781445600-1781451000@buntport.com
SUMMARY:This Is The Day '91 (W/ Captions)
DESCRIPTION:A comedy with a little bit of nostalgia\, your daily dose of Carrageenan\, and a horse named Markham. \nThis performance includes captioning.\n**If you are using the caption services\, please indicate that in the notes section so we can reserve a spot with the best sight lines to the captions.
URL:https://buntport.com/show/this-is-the-day-91-14/
LOCATION:Buntport Theater\, 717 Lipan Street\, Denver\, CO\, 80204\, United States
CATEGORIES:Main Stage
ATTACH;FMTTYPE=image/jpeg:https://buntport.com/wp-content/uploads/2026/04/91-scaled.jpg
GEO:39.7277742;-105.0020391
X-APPLE-STRUCTURED-LOCATION;VALUE=URI;X-ADDRESS=Buntport Theater 717 Lipan Street Denver CO 80204 United States;X-APPLE-RADIUS=500;X-TITLE=717 Lipan Street:geo:-105.0020391,39.7277742
END:VEVENT
END:VCALENDAR