BEGIN:VCALENDAR
VERSION:2.0
PRODID:-//Buntport Theater - ECPv6.15.20//NONSGML v1.0//EN
CALSCALE:GREGORIAN
METHOD:PUBLISH
X-WR-CALNAME:Buntport Theater
X-ORIGINAL-URL:https://buntport.com
X-WR-CALDESC:Events for Buntport Theater
REFRESH-INTERVAL;VALUE=DURATION:PT1H
X-Robots-Tag:noindex
X-PUBLISHED-TTL:PT1H
BEGIN:VTIMEZONE
TZID:America/Denver
BEGIN:DAYLIGHT
TZOFFSETFROM:-0700
TZOFFSETTO:-0600
TZNAME:MDT
DTSTART:20240310T090000
END:DAYLIGHT
BEGIN:STANDARD
TZOFFSETFROM:-0600
TZOFFSETTO:-0700
TZNAME:MST
DTSTART:20241103T080000
END:STANDARD
BEGIN:DAYLIGHT
TZOFFSETFROM:-0700
TZOFFSETTO:-0600
TZNAME:MDT
DTSTART:20250309T090000
END:DAYLIGHT
BEGIN:STANDARD
TZOFFSETFROM:-0600
TZOFFSETTO:-0700
TZNAME:MST
DTSTART:20251102T080000
END:STANDARD
BEGIN:DAYLIGHT
TZOFFSETFROM:-0700
TZOFFSETTO:-0600
TZNAME:MDT
DTSTART:20260308T090000
END:DAYLIGHT
BEGIN:STANDARD
TZOFFSETFROM:-0600
TZOFFSETTO:-0700
TZNAME:MST
DTSTART:20261101T080000
END:STANDARD
END:VTIMEZONE
BEGIN:VEVENT
DTSTART;TZID=America/Denver:20250702T190000
DTEND;TZID=America/Denver:20250702T220000
DTSTAMP:20260425T082020
CREATED:20250628T170439Z
LAST-MODIFIED:20250831T213315Z
UID:10002345-1751482800-1751493600@buntport.com
SUMMARY:GUEST PERFORMANCE- Ami Dayan presents: The Israeli-Palestinian Conversation
DESCRIPTION:An Interactive Play & Community Conversation; sharing perspectives\, challenging narratives\, finding common ground\, taking action. \nGet tickets here! \nCall- 970-541-0752 to contact the production team. \n 
URL:https://buntport.com/show/guest-performance-ami-dayan-presents-the-israeli-palestinian-conversation/2025-07-02/
LOCATION:Buntport Theater\, 717 Lipan Street\, Denver\, CO\, 80204\, United States
GEO:39.7277742;-105.0020391
X-APPLE-STRUCTURED-LOCATION;VALUE=URI;X-ADDRESS=Buntport Theater 717 Lipan Street Denver CO 80204 United States;X-APPLE-RADIUS=500;X-TITLE=717 Lipan Street:geo:-105.0020391,39.7277742
END:VEVENT
BEGIN:VEVENT
DTSTART;TZID=America/Denver:20250703T190000
DTEND;TZID=America/Denver:20250703T220000
DTSTAMP:20260425T082020
CREATED:20250628T170439Z
LAST-MODIFIED:20250831T213315Z
UID:10002346-1751569200-1751580000@buntport.com
SUMMARY:GUEST PERFORMANCE- Ami Dayan presents: The Israeli-Palestinian Conversation
DESCRIPTION:An Interactive Play & Community Conversation; sharing perspectives\, challenging narratives\, finding common ground\, taking action. \nGet tickets here! \nCall- 970-541-0752 to contact the production team. \n 
URL:https://buntport.com/show/guest-performance-ami-dayan-presents-the-israeli-palestinian-conversation/2025-07-03/
LOCATION:Buntport Theater\, 717 Lipan Street\, Denver\, CO\, 80204\, United States
GEO:39.7277742;-105.0020391
X-APPLE-STRUCTURED-LOCATION;VALUE=URI;X-ADDRESS=Buntport Theater 717 Lipan Street Denver CO 80204 United States;X-APPLE-RADIUS=500;X-TITLE=717 Lipan Street:geo:-105.0020391,39.7277742
END:VEVENT
BEGIN:VEVENT
DTSTART;TZID=America/Denver:20250706T140000
DTEND;TZID=America/Denver:20250706T170000
DTSTAMP:20260425T082020
CREATED:20250628T170439Z
LAST-MODIFIED:20250831T213315Z
UID:10002350-1751810400-1751821200@buntport.com
SUMMARY:GUEST PERFORMANCE- Ami Dayan presents: The Israeli-Palestinian Conversation
DESCRIPTION:An Interactive Play & Community Conversation; sharing perspectives\, challenging narratives\, finding common ground\, taking action. \nGet tickets here! \nCall- 970-541-0752 to contact the production team. \n 
URL:https://buntport.com/show/guest-performance-ami-dayan-presents-the-israeli-palestinian-conversation/2025-07-06/
LOCATION:Buntport Theater\, 717 Lipan Street\, Denver\, CO\, 80204\, United States
GEO:39.7277742;-105.0020391
X-APPLE-STRUCTURED-LOCATION;VALUE=URI;X-ADDRESS=Buntport Theater 717 Lipan Street Denver CO 80204 United States;X-APPLE-RADIUS=500;X-TITLE=717 Lipan Street:geo:-105.0020391,39.7277742
END:VEVENT
BEGIN:VEVENT
DTSTART;TZID=America/Denver:20250716T200000
DTEND;TZID=America/Denver:20250716T213000
DTSTAMP:20260425T082020
CREATED:20250407T204641Z
LAST-MODIFIED:20250712T104024Z
UID:10002318-1752696000-1752701400@buntport.com
SUMMARY:The Narrators: Charm
DESCRIPTION:Doors at 7:30pm\, show starts at 8:00pm \nJoin us for an evening of true stories on the theme “CHARM.” \nTICKETS\n• Name your own price! Get your tickets below.\n• A ticket guarantees access to a seat. All seating is general admission; you may choose where to sit.\n• If general admission seating is sold out\, floor seating will be available for free\, no reservation required (space permitting). \nAT THE VENUE \n• Masks are not required but welcome.\n• Beer and wine will be available by donation. \nMORE QUESTIONS? \n• Visit our FAQ or email us: info@thenarrators.org \nABOUT THE NARRATORS\nThe Narrators is a live storytelling show and podcast based in Denver\, Colorado. Hosted by Erin Rollman\, Andrew Orvedahl\, and Ron S. Doyle. Comedians\, actors\, musicians\, writers\, and other fascinating folks share true stories from their lives\, centered on a monthly theme. Learn more and listen to the podcast at thenarrators.org. \nDoors at 7:30pm • Show at 8:00pm
URL:https://buntport.com/show/the-narrators-charm/
LOCATION:Buntport Theater\, 717 Lipan Street\, Denver\, CO\, 80204\, United States
CATEGORIES:off-night
ATTACH;FMTTYPE=image/jpeg:https://buntport.com/wp-content/uploads/2025/04/2025-narrators-charm-1.jpg
ORGANIZER;CN="The Narrators":MAILTO:info@thenarrators.org
GEO:39.7277742;-105.0020391
X-APPLE-STRUCTURED-LOCATION;VALUE=URI;X-ADDRESS=Buntport Theater 717 Lipan Street Denver CO 80204 United States;X-APPLE-RADIUS=500;X-TITLE=717 Lipan Street:geo:-105.0020391,39.7277742
END:VEVENT
BEGIN:VEVENT
DTSTART;TZID=America/Denver:20250719T193000
DTEND;TZID=America/Denver:20250719T203000
DTSTAMP:20260425T082020
CREATED:20250613T014540Z
LAST-MODIFIED:20250616T042902Z
UID:10002334-1752953400-1752957000@buntport.com
SUMMARY:GUEST PERFORMANCE- Thaddeus Phillips- "ArounD the WorlD in 80 ToyS"
DESCRIPTION:Our friend Thaddeus Phillips (Lost Soles\, The Archivist\, 17 Border Crossings\, and more) is coming back to Denver! Get Tickets Here!
URL:https://buntport.com/show/guest-performance-thaddeus-mcwhinnie-phillips-present-around-the-world-in-80-toys/2025-07-19/
LOCATION:Buntport Theater\, 717 Lipan Street\, Denver\, CO\, 80204\, United States
CATEGORIES:Guest Shows
ATTACH;FMTTYPE=image/jpeg:https://buntport.com/wp-content/uploads/2025/06/80-toys.jpg
GEO:39.7277742;-105.0020391
X-APPLE-STRUCTURED-LOCATION;VALUE=URI;X-ADDRESS=Buntport Theater 717 Lipan Street Denver CO 80204 United States;X-APPLE-RADIUS=500;X-TITLE=717 Lipan Street:geo:-105.0020391,39.7277742
END:VEVENT
BEGIN:VEVENT
DTSTART;TZID=America/Denver:20250725T193000
DTEND;TZID=America/Denver:20250725T203000
DTSTAMP:20260425T082020
CREATED:20250613T014540Z
LAST-MODIFIED:20250616T042902Z
UID:10002335-1753471800-1753475400@buntport.com
SUMMARY:GUEST PERFORMANCE- Thaddeus Phillips- "ArounD the WorlD in 80 ToyS"
DESCRIPTION:Our friend Thaddeus Phillips (Lost Soles\, The Archivist\, 17 Border Crossings\, and more) is coming back to Denver! Get Tickets Here!
URL:https://buntport.com/show/guest-performance-thaddeus-mcwhinnie-phillips-present-around-the-world-in-80-toys/2025-07-25/
LOCATION:Buntport Theater\, 717 Lipan Street\, Denver\, CO\, 80204\, United States
CATEGORIES:Guest Shows
ATTACH;FMTTYPE=image/jpeg:https://buntport.com/wp-content/uploads/2025/06/80-toys.jpg
GEO:39.7277742;-105.0020391
X-APPLE-STRUCTURED-LOCATION;VALUE=URI;X-ADDRESS=Buntport Theater 717 Lipan Street Denver CO 80204 United States;X-APPLE-RADIUS=500;X-TITLE=717 Lipan Street:geo:-105.0020391,39.7277742
END:VEVENT
BEGIN:VEVENT
DTSTART;TZID=America/Denver:20250726T193000
DTEND;TZID=America/Denver:20250726T203000
DTSTAMP:20260425T082020
CREATED:20250613T014540Z
LAST-MODIFIED:20250616T042902Z
UID:10002336-1753558200-1753561800@buntport.com
SUMMARY:GUEST PERFORMANCE- Thaddeus Phillips- "ArounD the WorlD in 80 ToyS"
DESCRIPTION:Our friend Thaddeus Phillips (Lost Soles\, The Archivist\, 17 Border Crossings\, and more) is coming back to Denver! Get Tickets Here!
URL:https://buntport.com/show/guest-performance-thaddeus-mcwhinnie-phillips-present-around-the-world-in-80-toys/2025-07-26/
LOCATION:Buntport Theater\, 717 Lipan Street\, Denver\, CO\, 80204\, United States
CATEGORIES:Guest Shows
ATTACH;FMTTYPE=image/jpeg:https://buntport.com/wp-content/uploads/2025/06/80-toys.jpg
GEO:39.7277742;-105.0020391
X-APPLE-STRUCTURED-LOCATION;VALUE=URI;X-ADDRESS=Buntport Theater 717 Lipan Street Denver CO 80204 United States;X-APPLE-RADIUS=500;X-TITLE=717 Lipan Street:geo:-105.0020391,39.7277742
END:VEVENT
BEGIN:VEVENT
DTSTART;TZID=America/Denver:20250727T180000
DTEND;TZID=America/Denver:20250727T190000
DTSTAMP:20260425T082020
CREATED:20250613T014540Z
LAST-MODIFIED:20250616T042902Z
UID:10002343-1753639200-1753642800@buntport.com
SUMMARY:GUEST PERFORMANCE- Thaddeus Phillips- "ArounD the WorlD in 80 ToyS"
DESCRIPTION:Our friend Thaddeus Phillips (Lost Soles\, The Archivist\, 17 Border Crossings\, and more) is coming back to Denver! Get Tickets Here!
URL:https://buntport.com/show/guest-performance-thaddeus-mcwhinnie-phillips-present-around-the-world-in-80-toys/2025-07-27/
LOCATION:Buntport Theater\, 717 Lipan Street\, Denver\, CO\, 80204\, United States
CATEGORIES:Guest Shows
ATTACH;FMTTYPE=image/jpeg:https://buntport.com/wp-content/uploads/2025/06/80-toys.jpg
GEO:39.7277742;-105.0020391
X-APPLE-STRUCTURED-LOCATION;VALUE=URI;X-ADDRESS=Buntport Theater 717 Lipan Street Denver CO 80204 United States;X-APPLE-RADIUS=500;X-TITLE=717 Lipan Street:geo:-105.0020391,39.7277742
END:VEVENT
END:VCALENDAR