BEGIN:VCALENDAR
VERSION:2.0
PRODID:-//Buntport Theater - ECPv6.15.20//NONSGML v1.0//EN
CALSCALE:GREGORIAN
METHOD:PUBLISH
X-WR-CALNAME:Buntport Theater
X-ORIGINAL-URL:https://buntport.com
X-WR-CALDESC:Events for Buntport Theater
REFRESH-INTERVAL;VALUE=DURATION:PT1H
X-Robots-Tag:noindex
X-PUBLISHED-TTL:PT1H
BEGIN:VTIMEZONE
TZID:America/Denver
BEGIN:DAYLIGHT
TZOFFSETFROM:-0700
TZOFFSETTO:-0600
TZNAME:MDT
DTSTART:20250309T090000
END:DAYLIGHT
BEGIN:STANDARD
TZOFFSETFROM:-0600
TZOFFSETTO:-0700
TZNAME:MST
DTSTART:20251102T080000
END:STANDARD
BEGIN:DAYLIGHT
TZOFFSETFROM:-0700
TZOFFSETTO:-0600
TZNAME:MDT
DTSTART:20260308T090000
END:DAYLIGHT
BEGIN:STANDARD
TZOFFSETFROM:-0600
TZOFFSETTO:-0700
TZNAME:MST
DTSTART:20261101T080000
END:STANDARD
BEGIN:DAYLIGHT
TZOFFSETFROM:-0700
TZOFFSETTO:-0600
TZNAME:MDT
DTSTART:20270314T090000
END:DAYLIGHT
BEGIN:STANDARD
TZOFFSETFROM:-0600
TZOFFSETTO:-0700
TZNAME:MST
DTSTART:20271107T080000
END:STANDARD
END:VTIMEZONE
BEGIN:VEVENT
DTSTART;TZID=America/Denver:20260303T193000
DTEND;TZID=America/Denver:20260303T220000
DTSTAMP:20260422T224650
CREATED:20260224T181143Z
LAST-MODIFIED:20260303T194634Z
UID:10002505-1772566200-1772575200@buntport.com
SUMMARY:GUEST PERFORMANCE: Idiot Theater presents Freaky Weeky
DESCRIPTION:Come see Denver’s DIY artists\, clowns\, comedians and performers test out new work in front of a live audience. \nMany different shows! \nClick here for more information and tickets
URL:https://buntport.com/show/guest-performance-idiot-theater-presents-freaky-weeky/2026-03-03/
LOCATION:Buntport Theater\, 717 Lipan Street\, Denver\, CO\, 80204\, United States
GEO:39.7277742;-105.0020391
X-APPLE-STRUCTURED-LOCATION;VALUE=URI;X-ADDRESS=Buntport Theater 717 Lipan Street Denver CO 80204 United States;X-APPLE-RADIUS=500;X-TITLE=717 Lipan Street:geo:-105.0020391,39.7277742
END:VEVENT
BEGIN:VEVENT
DTSTART;TZID=America/Denver:20260304T193000
DTEND;TZID=America/Denver:20260304T220000
DTSTAMP:20260422T224650
CREATED:20260224T181143Z
LAST-MODIFIED:20260303T194634Z
UID:10002506-1772652600-1772661600@buntport.com
SUMMARY:GUEST PERFORMANCE: Idiot Theater presents Freaky Weeky
DESCRIPTION:Come see Denver’s DIY artists\, clowns\, comedians and performers test out new work in front of a live audience. \nMany different shows! \nClick here for more information and tickets
URL:https://buntport.com/show/guest-performance-idiot-theater-presents-freaky-weeky/2026-03-04/
LOCATION:Buntport Theater\, 717 Lipan Street\, Denver\, CO\, 80204\, United States
GEO:39.7277742;-105.0020391
X-APPLE-STRUCTURED-LOCATION;VALUE=URI;X-ADDRESS=Buntport Theater 717 Lipan Street Denver CO 80204 United States;X-APPLE-RADIUS=500;X-TITLE=717 Lipan Street:geo:-105.0020391,39.7277742
END:VEVENT
BEGIN:VEVENT
DTSTART;TZID=America/Denver:20260306T193000
DTEND;TZID=America/Denver:20260306T220000
DTSTAMP:20260422T224650
CREATED:20260224T181143Z
LAST-MODIFIED:20260303T194634Z
UID:10002508-1772825400-1772834400@buntport.com
SUMMARY:GUEST PERFORMANCE: Idiot Theater presents Freaky Weeky
DESCRIPTION:Come see Denver’s DIY artists\, clowns\, comedians and performers test out new work in front of a live audience. \nMany different shows! \nClick here for more information and tickets
URL:https://buntport.com/show/guest-performance-idiot-theater-presents-freaky-weeky/2026-03-06/1/
LOCATION:Buntport Theater\, 717 Lipan Street\, Denver\, CO\, 80204\, United States
GEO:39.7277742;-105.0020391
X-APPLE-STRUCTURED-LOCATION;VALUE=URI;X-ADDRESS=Buntport Theater 717 Lipan Street Denver CO 80204 United States;X-APPLE-RADIUS=500;X-TITLE=717 Lipan Street:geo:-105.0020391,39.7277742
END:VEVENT
BEGIN:VEVENT
DTSTART;TZID=America/Denver:20260306T200000
DTEND;TZID=America/Denver:20260306T233000
DTSTAMP:20260422T224650
CREATED:20260224T181143Z
LAST-MODIFIED:20260303T194634Z
UID:10002510-1772827200-1772839800@buntport.com
SUMMARY:GUEST PERFORMANCE: Idiot Theater presents Freaky Weeky
DESCRIPTION:Come see Denver’s DIY artists\, clowns\, comedians and performers test out new work in front of a live audience. \nMany different shows! \nClick here for more information and tickets
URL:https://buntport.com/show/guest-performance-idiot-theater-presents-freaky-weeky/2026-03-06/2/
LOCATION:Buntport Theater\, 717 Lipan Street\, Denver\, CO\, 80204\, United States
GEO:39.7277742;-105.0020391
X-APPLE-STRUCTURED-LOCATION;VALUE=URI;X-ADDRESS=Buntport Theater 717 Lipan Street Denver CO 80204 United States;X-APPLE-RADIUS=500;X-TITLE=717 Lipan Street:geo:-105.0020391,39.7277742
END:VEVENT
BEGIN:VEVENT
DTSTART;TZID=America/Denver:20260307T170000
DTEND;TZID=America/Denver:20260307T213000
DTSTAMP:20260422T224650
CREATED:20260224T181143Z
LAST-MODIFIED:20260303T194634Z
UID:10002511-1772902800-1772919000@buntport.com
SUMMARY:GUEST PERFORMANCE: Idiot Theater presents Freaky Weeky
DESCRIPTION:Come see Denver’s DIY artists\, clowns\, comedians and performers test out new work in front of a live audience. \nMany different shows! \nClick here for more information and tickets
URL:https://buntport.com/show/guest-performance-idiot-theater-presents-freaky-weeky/2026-03-07/
LOCATION:Buntport Theater\, 717 Lipan Street\, Denver\, CO\, 80204\, United States
GEO:39.7277742;-105.0020391
X-APPLE-STRUCTURED-LOCATION;VALUE=URI;X-ADDRESS=Buntport Theater 717 Lipan Street Denver CO 80204 United States;X-APPLE-RADIUS=500;X-TITLE=717 Lipan Street:geo:-105.0020391,39.7277742
END:VEVENT
BEGIN:VEVENT
DTSTART;TZID=America/Denver:20260317T193000
DTEND;TZID=America/Denver:20260317T210000
DTSTAMP:20260422T224650
CREATED:20251121T225558Z
LAST-MODIFIED:20251121T225558Z
UID:10002492-1773775800-1773781200@buntport.com
SUMMARY:The Great Debate
DESCRIPTION:The Great Debate pits teams of non-experts head-to-head\, toe-to-toe\, and often dumb-and-dumber in lively debates of the inconsequential. Mundane topics are brought to life by ordinary\, but opinionated folks. You’re bound to be a flip-flopper after listening to compelling arguments on things that never mattered. \n**Even if tickets are sold-out there might still be floor seating and wait list seats available. Come to the theater at 7pm!**
URL:https://buntport.com/show/the-great-debate-19/
LOCATION:Buntport Theater\, 717 Lipan Street\, Denver\, CO\, 80204\, United States
CATEGORIES:Third Tuesdays
ATTACH;FMTTYPE=image/jpeg:https://buntport.com/wp-content/uploads/2016/07/nixon-tv-debate-with-kennedy-scaled.jpg
GEO:39.7277742;-105.0020391
X-APPLE-STRUCTURED-LOCATION;VALUE=URI;X-ADDRESS=Buntport Theater 717 Lipan Street Denver CO 80204 United States;X-APPLE-RADIUS=500;X-TITLE=717 Lipan Street:geo:-105.0020391,39.7277742
END:VEVENT
BEGIN:VEVENT
DTSTART;TZID=America/Denver:20260318T200000
DTEND;TZID=America/Denver:20260318T213000
DTSTAMP:20260422T224650
CREATED:20260304T152320Z
LAST-MODIFIED:20260318T143418Z
UID:10002512-1773864000-1773869400@buntport.com
SUMMARY:The Narrators: Adaptation
DESCRIPTION:Doors at 7:30pm\, show starts at 8:00pm \nJoin us for an evening of true stories on the theme “ADAPTATION.” \nTICKETS\n• Name your own price! Get your tickets below.\n• A ticket guarantees access to a seat. All seating is general admission; you may choose where to sit.\n• If general admission seating is sold out\, floor seating will be available for free\, no reservation required (space permitting). \nAT THE VENUE \n• Masks are not required but welcome.\n• Beer and wine will be available by donation. \nMORE QUESTIONS? \n• Visit our FAQ or email us: info@thenarrators.org \nABOUT THE NARRATORS\nThe Narrators is a live storytelling show and podcast based in Denver\, Colorado. Hosted by Erin Rollman\, Andrew Orvedahl\, and Ron S. Doyle. Comedians\, actors\, musicians\, writers\, and other fascinating folks share true stories from their lives\, centered on a monthly theme. Learn more and listen to the podcast at thenarrators.org. \nDoors at 7:30pm • Show at 8:00pm
URL:https://buntport.com/show/the-narrators-adaptation/
LOCATION:Buntport Theater\, 717 Lipan Street\, Denver\, CO\, 80204\, United States
CATEGORIES:off-night
ATTACH;FMTTYPE=image/jpeg:https://buntport.com/wp-content/uploads/2026/03/narrators-2026-Adaptation-with-lineup.jpg
ORGANIZER;CN="The Narrators":MAILTO:info@thenarrators.org
GEO:39.7277742;-105.0020391
X-APPLE-STRUCTURED-LOCATION;VALUE=URI;X-ADDRESS=Buntport Theater 717 Lipan Street Denver CO 80204 United States;X-APPLE-RADIUS=500;X-TITLE=717 Lipan Street:geo:-105.0020391,39.7277742
END:VEVENT
BEGIN:VEVENT
DTSTART;TZID=America/Denver:20260327T193000
DTEND;TZID=America/Denver:20260327T210000
DTSTAMP:20260422T224650
CREATED:20260314T133512Z
LAST-MODIFIED:20260314T133512Z
UID:10002513-1774639800-1774645200@buntport.com
SUMMARY:GUEST PERFORMANCE- Grapefruit Lab Presents: Liberty By Any Means
DESCRIPTION:A short play by Michael Clifton\, written while he was incarcerated in Colorado. His solo performance grapples with hope in the darkest of places—solitary confinement in prison. \nFor tickets go to grapefruitlab.com
URL:https://buntport.com/show/guest-performance-grapefruit-lab-presents-liberty-by-any-means/2026-03-27/
LOCATION:Buntport Theater\, 717 Lipan Street\, Denver\, CO\, 80204\, United States
CATEGORIES:Guest Shows
GEO:39.7277742;-105.0020391
X-APPLE-STRUCTURED-LOCATION;VALUE=URI;X-ADDRESS=Buntport Theater 717 Lipan Street Denver CO 80204 United States;X-APPLE-RADIUS=500;X-TITLE=717 Lipan Street:geo:-105.0020391,39.7277742
END:VEVENT
BEGIN:VEVENT
DTSTART;TZID=America/Denver:20260328T193000
DTEND;TZID=America/Denver:20260328T210000
DTSTAMP:20260422T224650
CREATED:20260314T133512Z
LAST-MODIFIED:20260314T133512Z
UID:10002514-1774726200-1774731600@buntport.com
SUMMARY:GUEST PERFORMANCE- Grapefruit Lab Presents: Liberty By Any Means
DESCRIPTION:A short play by Michael Clifton\, written while he was incarcerated in Colorado. His solo performance grapples with hope in the darkest of places—solitary confinement in prison. \nFor tickets go to grapefruitlab.com
URL:https://buntport.com/show/guest-performance-grapefruit-lab-presents-liberty-by-any-means/2026-03-28/
LOCATION:Buntport Theater\, 717 Lipan Street\, Denver\, CO\, 80204\, United States
CATEGORIES:Guest Shows
GEO:39.7277742;-105.0020391
X-APPLE-STRUCTURED-LOCATION;VALUE=URI;X-ADDRESS=Buntport Theater 717 Lipan Street Denver CO 80204 United States;X-APPLE-RADIUS=500;X-TITLE=717 Lipan Street:geo:-105.0020391,39.7277742
END:VEVENT
BEGIN:VEVENT
DTSTART;TZID=America/Denver:20260329T140000
DTEND;TZID=America/Denver:20260329T153000
DTSTAMP:20260422T224650
CREATED:20260314T133512Z
LAST-MODIFIED:20260314T133512Z
UID:10002515-1774792800-1774798200@buntport.com
SUMMARY:GUEST PERFORMANCE- Grapefruit Lab Presents: Liberty By Any Means
DESCRIPTION:A short play by Michael Clifton\, written while he was incarcerated in Colorado. His solo performance grapples with hope in the darkest of places—solitary confinement in prison. \nFor tickets go to grapefruitlab.com
URL:https://buntport.com/show/guest-performance-grapefruit-lab-presents-liberty-by-any-means/2026-03-29/
LOCATION:Buntport Theater\, 717 Lipan Street\, Denver\, CO\, 80204\, United States
CATEGORIES:Guest Shows
GEO:39.7277742;-105.0020391
X-APPLE-STRUCTURED-LOCATION;VALUE=URI;X-ADDRESS=Buntport Theater 717 Lipan Street Denver CO 80204 United States;X-APPLE-RADIUS=500;X-TITLE=717 Lipan Street:geo:-105.0020391,39.7277742
END:VEVENT
END:VCALENDAR