BEGIN:VCALENDAR
VERSION:2.0
PRODID:-//Buntport Theater - ECPv6.15.20//NONSGML v1.0//EN
CALSCALE:GREGORIAN
METHOD:PUBLISH
X-WR-CALNAME:Buntport Theater
X-ORIGINAL-URL:https://buntport.com
X-WR-CALDESC:Events for Buntport Theater
REFRESH-INTERVAL;VALUE=DURATION:PT1H
X-Robots-Tag:noindex
X-PUBLISHED-TTL:PT1H
BEGIN:VTIMEZONE
TZID:America/Denver
BEGIN:DAYLIGHT
TZOFFSETFROM:-0700
TZOFFSETTO:-0600
TZNAME:MDT
DTSTART:20180311T090000
END:DAYLIGHT
BEGIN:STANDARD
TZOFFSETFROM:-0600
TZOFFSETTO:-0700
TZNAME:MST
DTSTART:20181104T080000
END:STANDARD
BEGIN:DAYLIGHT
TZOFFSETFROM:-0700
TZOFFSETTO:-0600
TZNAME:MDT
DTSTART:20190310T090000
END:DAYLIGHT
BEGIN:STANDARD
TZOFFSETFROM:-0600
TZOFFSETTO:-0700
TZNAME:MST
DTSTART:20191103T080000
END:STANDARD
BEGIN:DAYLIGHT
TZOFFSETFROM:-0700
TZOFFSETTO:-0600
TZNAME:MDT
DTSTART:20200308T090000
END:DAYLIGHT
BEGIN:STANDARD
TZOFFSETFROM:-0600
TZOFFSETTO:-0700
TZNAME:MST
DTSTART:20201101T080000
END:STANDARD
BEGIN:DAYLIGHT
TZOFFSETFROM:-0700
TZOFFSETTO:-0600
TZNAME:MDT
DTSTART:20210314T090000
END:DAYLIGHT
BEGIN:STANDARD
TZOFFSETFROM:-0600
TZOFFSETTO:-0700
TZNAME:MST
DTSTART:20211107T080000
END:STANDARD
BEGIN:DAYLIGHT
TZOFFSETFROM:-0700
TZOFFSETTO:-0600
TZNAME:MDT
DTSTART:20220313T090000
END:DAYLIGHT
BEGIN:STANDARD
TZOFFSETFROM:-0600
TZOFFSETTO:-0700
TZNAME:MST
DTSTART:20221106T080000
END:STANDARD
BEGIN:DAYLIGHT
TZOFFSETFROM:-0700
TZOFFSETTO:-0600
TZNAME:MDT
DTSTART:20230312T090000
END:DAYLIGHT
BEGIN:STANDARD
TZOFFSETFROM:-0600
TZOFFSETTO:-0700
TZNAME:MST
DTSTART:20231105T080000
END:STANDARD
BEGIN:DAYLIGHT
TZOFFSETFROM:-0700
TZOFFSETTO:-0600
TZNAME:MDT
DTSTART:20240310T090000
END:DAYLIGHT
BEGIN:STANDARD
TZOFFSETFROM:-0600
TZOFFSETTO:-0700
TZNAME:MST
DTSTART:20241103T080000
END:STANDARD
END:VTIMEZONE
BEGIN:VEVENT
DTSTART;TZID=America/Denver:20230903T190000
DTEND;TZID=America/Denver:20230903T203000
DTSTAMP:20260423T021432
CREATED:20230804T202750Z
LAST-MODIFIED:20230804T202939Z
UID:10000511-1693767600-1693773000@buntport.com
SUMMARY:GUEST PERFORMANCE- Samwell Rose Presents: Willy/Nicky
DESCRIPTION:Rasputin as a drag queen? Silly Willy and his boats? Local devised queer theatre? As the Bolsheviks would say\, “Slay\, queen!” \nLink for tickets!
URL:https://buntport.com/show/guest-performance-samwell-rose-presents-willy-nicky/2023-09-03/
LOCATION:717 Lipan Street\, Denver\, CO\, 80204\, United States
CATEGORIES:Guest Shows
GEO:39.7277618;-105.0020045
X-APPLE-STRUCTURED-LOCATION;VALUE=URI;X-ADDRESS=717 Lipan Street Denver CO 80204 United States;X-APPLE-RADIUS=500;X-TITLE=717 Lipan Street:geo:-105.0020045,39.7277618
END:VEVENT
BEGIN:VEVENT
DTSTART;TZID=America/Denver:20230902T190000
DTEND;TZID=America/Denver:20230902T203000
DTSTAMP:20260423T021432
CREATED:20230804T202750Z
LAST-MODIFIED:20230804T202939Z
UID:10000510-1693681200-1693686600@buntport.com
SUMMARY:GUEST PERFORMANCE- Samwell Rose Presents: Willy/Nicky
DESCRIPTION:Rasputin as a drag queen? Silly Willy and his boats? Local devised queer theatre? As the Bolsheviks would say\, “Slay\, queen!” \nLink for tickets!
URL:https://buntport.com/show/guest-performance-samwell-rose-presents-willy-nicky/2023-09-02/
LOCATION:717 Lipan Street\, Denver\, CO\, 80204\, United States
CATEGORIES:Guest Shows
GEO:39.7277618;-105.0020045
X-APPLE-STRUCTURED-LOCATION;VALUE=URI;X-ADDRESS=717 Lipan Street Denver CO 80204 United States;X-APPLE-RADIUS=500;X-TITLE=717 Lipan Street:geo:-105.0020045,39.7277618
END:VEVENT
BEGIN:VEVENT
DTSTART;TZID=America/Denver:20230901T190000
DTEND;TZID=America/Denver:20230901T203000
DTSTAMP:20260423T021432
CREATED:20230804T202750Z
LAST-MODIFIED:20230804T202939Z
UID:10000509-1693594800-1693600200@buntport.com
SUMMARY:GUEST PERFORMANCE- Samwell Rose Presents: Willy/Nicky
DESCRIPTION:Rasputin as a drag queen? Silly Willy and his boats? Local devised queer theatre? As the Bolsheviks would say\, “Slay\, queen!” \nLink for tickets!
URL:https://buntport.com/show/guest-performance-samwell-rose-presents-willy-nicky/2023-09-01/
LOCATION:717 Lipan Street\, Denver\, CO\, 80204\, United States
CATEGORIES:Guest Shows
GEO:39.7277618;-105.0020045
X-APPLE-STRUCTURED-LOCATION;VALUE=URI;X-ADDRESS=717 Lipan Street Denver CO 80204 United States;X-APPLE-RADIUS=500;X-TITLE=717 Lipan Street:geo:-105.0020045,39.7277618
END:VEVENT
BEGIN:VEVENT
DTSTART;TZID=America/Denver:20230827T190000
DTEND;TZID=America/Denver:20230827T203000
DTSTAMP:20260423T021432
CREATED:20230804T202750Z
LAST-MODIFIED:20230804T202939Z
UID:10000508-1693162800-1693168200@buntport.com
SUMMARY:GUEST PERFORMANCE- Samwell Rose Presents: Willy/Nicky
DESCRIPTION:Rasputin as a drag queen? Silly Willy and his boats? Local devised queer theatre? As the Bolsheviks would say\, “Slay\, queen!” \nLink for tickets!
URL:https://buntport.com/show/guest-performance-samwell-rose-presents-willy-nicky/2023-08-27/
LOCATION:717 Lipan Street\, Denver\, CO\, 80204\, United States
CATEGORIES:Guest Shows
GEO:39.7277618;-105.0020045
X-APPLE-STRUCTURED-LOCATION;VALUE=URI;X-ADDRESS=717 Lipan Street Denver CO 80204 United States;X-APPLE-RADIUS=500;X-TITLE=717 Lipan Street:geo:-105.0020045,39.7277618
END:VEVENT
BEGIN:VEVENT
DTSTART;TZID=America/Denver:20230826T190000
DTEND;TZID=America/Denver:20230826T203000
DTSTAMP:20260423T021432
CREATED:20230804T202750Z
LAST-MODIFIED:20230804T202939Z
UID:10000507-1693076400-1693081800@buntport.com
SUMMARY:GUEST PERFORMANCE- Samwell Rose Presents: Willy/Nicky
DESCRIPTION:Rasputin as a drag queen? Silly Willy and his boats? Local devised queer theatre? As the Bolsheviks would say\, “Slay\, queen!” \nLink for tickets!
URL:https://buntport.com/show/guest-performance-samwell-rose-presents-willy-nicky/2023-08-26/
LOCATION:717 Lipan Street\, Denver\, CO\, 80204\, United States
CATEGORIES:Guest Shows
GEO:39.7277618;-105.0020045
X-APPLE-STRUCTURED-LOCATION;VALUE=URI;X-ADDRESS=717 Lipan Street Denver CO 80204 United States;X-APPLE-RADIUS=500;X-TITLE=717 Lipan Street:geo:-105.0020045,39.7277618
END:VEVENT
BEGIN:VEVENT
DTSTART;TZID=America/Denver:20230825T190000
DTEND;TZID=America/Denver:20230825T203000
DTSTAMP:20260423T021432
CREATED:20230804T202750Z
LAST-MODIFIED:20230804T202939Z
UID:10000506-1692990000-1692995400@buntport.com
SUMMARY:GUEST PERFORMANCE- Samwell Rose Presents: Willy/Nicky
DESCRIPTION:Rasputin as a drag queen? Silly Willy and his boats? Local devised queer theatre? As the Bolsheviks would say\, “Slay\, queen!” \nLink for tickets!
URL:https://buntport.com/show/guest-performance-samwell-rose-presents-willy-nicky/2023-08-25/
LOCATION:717 Lipan Street\, Denver\, CO\, 80204\, United States
CATEGORIES:Guest Shows
GEO:39.7277618;-105.0020045
X-APPLE-STRUCTURED-LOCATION;VALUE=URI;X-ADDRESS=717 Lipan Street Denver CO 80204 United States;X-APPLE-RADIUS=500;X-TITLE=717 Lipan Street:geo:-105.0020045,39.7277618
END:VEVENT
BEGIN:VEVENT
DTSTART;TZID=America/Denver:20190821T200000
DTEND;TZID=America/Denver:20190821T220000
DTSTAMP:20260423T021432
CREATED:20160804T213440Z
LAST-MODIFIED:20190817T213243Z
UID:10000091-1566417600-1566424800@buntport.com
SUMMARY:The Narrators: Transplant
DESCRIPTION:A live storytelling show and podcast based in Denver\, Colorado. Hosted by Ron S. Doyle and Erin Rollman. Comedians\, actors\, musicians\, writers\, and other fascinating folks share true stories from their lives\, centered on a monthly theme. Learn more and listen to the podcast at thenarrators.org\n\n\nDoors open at 7:15pm • Show at 8:00pm \nThe Narrators is free to attend\, but about half of the seats are available for reservation. Reserved seats are $5 each. We recommend reservations if you cannot arrive early\, don’t want to risk sitting on the floor\, or if you would just like to support the show. \n\n\n\n\n\nEven if the reserved seats are out-of-stock\, please come anyway. There will always be some FREE seats and floor seating available\, space permitting.
URL:https://buntport.com/show/narrators-2-2019-08-21/
LOCATION:717 Lipan Street\, Denver\, CO\, 80204\, United States
CATEGORIES:Guest Shows
ATTACH;FMTTYPE=image/png:https://buntport.com/wp-content/uploads/2016/08/narrators-transplant-2019.png
GEO:39.7277618;-105.0020045
X-APPLE-STRUCTURED-LOCATION;VALUE=URI;X-ADDRESS=717 Lipan Street Denver CO 80204 United States;X-APPLE-RADIUS=500;X-TITLE=717 Lipan Street:geo:-105.0020045,39.7277618
END:VEVENT
BEGIN:VEVENT
DTSTART;TZID=America/Denver:20190717T200000
DTEND;TZID=America/Denver:20190717T220000
DTSTAMP:20260423T021432
CREATED:20160804T213440Z
LAST-MODIFIED:20190731T035444Z
UID:10000089-1563393600-1563400800@buntport.com
SUMMARY:The Narrators
DESCRIPTION:A live storytelling show and podcast based in Denver\, Colorado. Hosted by Ron S. Doyle and Erin Rollman. Comedians\, actors\, musicians\, writers\, and other fascinating folks share true stories from their lives\, centered on a monthly theme. Learn more and listen to the podcast at thenarrators.org\n\n\nDoors open at 7:15pm • Show at 8:00pm \nThe Narrators is free to attend\, but about half of the seats are available for reservation. Reserved seats are $5 each. We recommend reservations if you cannot arrive early\, don’t want to risk sitting on the floor\, or if you would just like to support the show. \n\n\n\n\n\nEven if the reserved seats are out-of-stock\, please come anyway. There will always be some FREE seats and floor seating available\, space permitting.
URL:https://buntport.com/show/narrators-2-2019-07-17/
LOCATION:717 Lipan Street\, Denver\, CO\, 80204\, United States
CATEGORIES:Guest Shows
ATTACH;FMTTYPE=image/png:https://buntport.com/wp-content/uploads/2016/08/narrators-burn-2019.png
GEO:39.7277618;-105.0020045
X-APPLE-STRUCTURED-LOCATION;VALUE=URI;X-ADDRESS=717 Lipan Street Denver CO 80204 United States;X-APPLE-RADIUS=500;X-TITLE=717 Lipan Street:geo:-105.0020045,39.7277618
END:VEVENT
BEGIN:VEVENT
DTSTART;TZID=America/Denver:20190619T200000
DTEND;TZID=America/Denver:20190619T220000
DTSTAMP:20260423T021432
CREATED:20160804T213440Z
LAST-MODIFIED:20190529T215503Z
UID:10000087-1560974400-1560981600@buntport.com
SUMMARY:The Narrators
DESCRIPTION:A live storytelling show and podcast based in Denver\, Colorado. Hosted by Ron S. Doyle and Erin Rollman. Comedians\, actors\, musicians\, writers\, and other fascinating folks share true stories from their lives\, centered on a monthly theme. Learn more and listen to the podcast at thenarrators.org\n\n\nDoors open at 7:15pm • Show at 8:00pm \nThe Narrators is free to attend\, but about half of the seats are available for reservation. Reserved seats are $5 each. We recommend reservations if you cannot arrive early\, don’t want to risk sitting on the floor\, or if you would just like to support the show. \n\n\n\n\n\nEven if the reserved seats are out-of-stock\, please come anyway. There will always be some FREE seats and floor seating available\, space permitting.
URL:https://buntport.com/show/narrators-2-2019-06-19/
LOCATION:717 Lipan Street\, Denver\, CO\, 80204\, United States
CATEGORIES:Guest Shows
ATTACH;FMTTYPE=image/png:https://buntport.com/wp-content/uploads/2016/08/narrators-framed.png
GEO:39.7277618;-105.0020045
X-APPLE-STRUCTURED-LOCATION;VALUE=URI;X-ADDRESS=717 Lipan Street Denver CO 80204 United States;X-APPLE-RADIUS=500;X-TITLE=717 Lipan Street:geo:-105.0020045,39.7277618
END:VEVENT
BEGIN:VEVENT
DTSTART;TZID=America/Denver:20190515T200000
DTEND;TZID=America/Denver:20190515T220000
DTSTAMP:20260423T021432
CREATED:20160804T213440Z
LAST-MODIFIED:20190418T195845Z
UID:10000102-1557950400-1557957600@buntport.com
SUMMARY:The Narrators
DESCRIPTION:A live storytelling show and podcast based in Denver\, Colorado. Hosted by Ron S. Doyle and Erin Rollman. Comedians\, actors\, musicians\, writers\, and other fascinating folks share true stories from their lives\, centered on a monthly theme. Learn more and listen to the podcast at thenarrators.org\n\n\nDoors open at 7:15pm • Show at 8:00pm \nThe Narrators is free to attend\, but about half of the seats are available for reservation. Reserved seats are $5 each. We recommend reservations if you cannot arrive early\, don’t want to risk sitting on the floor\, or if you would just like to support the show. \n\n\n\n\n\nEven if the reserved seats are out-of-stock\, please come anyway. There will always be some FREE seats and floor seating available\, space permitting.
URL:https://buntport.com/show/narrators-2-2019-05-15/
LOCATION:717 Lipan Street\, Denver\, CO\, 80204\, United States
CATEGORIES:Guest Shows
ATTACH;FMTTYPE=image/png:https://buntport.com/wp-content/uploads/2016/08/narrators-alter-egos-fb.png
GEO:39.7277618;-105.0020045
X-APPLE-STRUCTURED-LOCATION;VALUE=URI;X-ADDRESS=717 Lipan Street Denver CO 80204 United States;X-APPLE-RADIUS=500;X-TITLE=717 Lipan Street:geo:-105.0020045,39.7277618
END:VEVENT
BEGIN:VEVENT
DTSTART;TZID=America/Denver:20190417T200000
DTEND;TZID=America/Denver:20190417T220000
DTSTAMP:20260423T021432
CREATED:20160804T213440Z
LAST-MODIFIED:20190417T163907Z
UID:10000100-1555531200-1555538400@buntport.com
SUMMARY:The Narrators
DESCRIPTION:A live storytelling show and podcast based in Denver\, Colorado. Hosted by Ron S. Doyle and Erin Rollman. Comedians\, actors\, musicians\, writers\, and other fascinating folks share true stories from their lives\, centered on a monthly theme.\n\n\nthenarrators.org \n• FREE • Doors open at 7:15pm \n*****ATTENTION: Reserved seating is sold out\, but there will still be some free seats available and seating on the floor.***** \nThe Narrators is free to attend\, but you can reserve seats for $5 each. We recommend reservations if you  cannot arrive early and don’t want to risk sitting on the floor\, or if you have a large group that would like to sit together.
URL:https://buntport.com/show/narrators-2-2019-04-17/
LOCATION:717 Lipan Street\, Denver\, CO\, 80204\, United States
CATEGORIES:Guest Shows
ATTACH;FMTTYPE=image/jpeg:https://buntport.com/wp-content/uploads/2016/08/narrators-nailing-it-fb.jpg
GEO:39.7277618;-105.0020045
X-APPLE-STRUCTURED-LOCATION;VALUE=URI;X-ADDRESS=717 Lipan Street Denver CO 80204 United States;X-APPLE-RADIUS=500;X-TITLE=717 Lipan Street:geo:-105.0020045,39.7277618
END:VEVENT
BEGIN:VEVENT
DTSTART;TZID=America/Denver:20190320T200000
DTEND;TZID=America/Denver:20190320T220000
DTSTAMP:20260423T021432
CREATED:20160804T213440Z
LAST-MODIFIED:20190305T221503Z
UID:10000098-1553112000-1553119200@buntport.com
SUMMARY:The Narrators
DESCRIPTION:A live storytelling show and podcast based in Denver\, Colorado. The Narrators is dedicated to promoting the art of true storytelling and providing community access to storytelling events.\nthenarrators.org \n• FREE • \nThe Narrators is free at the door. If you would like a guaranteed seat for this anniversary show\, you can reserve in advance for $5.
URL:https://buntport.com/show/narrators-2-2019-03-20/
LOCATION:717 Lipan Street\, Denver\, CO\, 80204\, United States
CATEGORIES:Guest Shows
ATTACH;FMTTYPE=image/png:https://buntport.com/wp-content/uploads/2016/08/narrators-growing-fb.png
GEO:39.7277618;-105.0020045
X-APPLE-STRUCTURED-LOCATION;VALUE=URI;X-ADDRESS=717 Lipan Street Denver CO 80204 United States;X-APPLE-RADIUS=500;X-TITLE=717 Lipan Street:geo:-105.0020045,39.7277618
END:VEVENT
END:VCALENDAR