BEGIN:VCALENDAR
VERSION:2.0
PRODID:-//Buntport Theater - ECPv6.15.20//NONSGML v1.0//EN
CALSCALE:GREGORIAN
METHOD:PUBLISH
X-WR-CALNAME:Buntport Theater
X-ORIGINAL-URL:https://buntport.com
X-WR-CALDESC:Events for Buntport Theater
REFRESH-INTERVAL;VALUE=DURATION:PT1H
X-Robots-Tag:noindex
X-PUBLISHED-TTL:PT1H
BEGIN:VTIMEZONE
TZID:America/Denver
BEGIN:DAYLIGHT
TZOFFSETFROM:-0700
TZOFFSETTO:-0600
TZNAME:MDT
DTSTART:20190310T090000
END:DAYLIGHT
BEGIN:STANDARD
TZOFFSETFROM:-0600
TZOFFSETTO:-0700
TZNAME:MST
DTSTART:20191103T080000
END:STANDARD
BEGIN:DAYLIGHT
TZOFFSETFROM:-0700
TZOFFSETTO:-0600
TZNAME:MDT
DTSTART:20200308T090000
END:DAYLIGHT
BEGIN:STANDARD
TZOFFSETFROM:-0600
TZOFFSETTO:-0700
TZNAME:MST
DTSTART:20201101T080000
END:STANDARD
BEGIN:DAYLIGHT
TZOFFSETFROM:-0700
TZOFFSETTO:-0600
TZNAME:MDT
DTSTART:20210314T090000
END:DAYLIGHT
BEGIN:STANDARD
TZOFFSETFROM:-0600
TZOFFSETTO:-0700
TZNAME:MST
DTSTART:20211107T080000
END:STANDARD
END:VTIMEZONE
BEGIN:VEVENT
DTSTART;TZID=America/Denver:20200618T190000
DTEND;TZID=America/Denver:20200618T200000
DTSTAMP:20260425T053905
CREATED:20200519T061418Z
LAST-MODIFIED:20200521T162749Z
UID:10000079-1592506800-1592510400@buntport.com
SUMMARY:The Grasshoppers- SOLD OUT
DESCRIPTION:a mini drive-in [live] theater experience (a.k.a a short play performed outdoors while the audience remains in the safety of their cars). \nLike most performance-based companies\, we have been working on safe\, alternative versions of entertainment\, and like many companies both locally and around the country\, we landed on an iteration of the drive-in. \nThe Grasshoppers is a short\, funny twist on a nature documentary\, featuring four giant grasshoppers (spaced safely apart from each other) on Buntport’s front lawn. \nA note: \n*While the show requires a vehicle and a smart phone\, Buntport will provide alternatives for anyone who does not have access to one or both. E-mail stuff@buntport.com for more information. \nThe basics: \n*The Grasshoppers runs Thurs–Sat at 7:00\, June 11th–June 27th in the parking lot of Buntport Theater – 717 Lipan Street in Denver \n*Additional dates/times are likely to be added. This is an experiment. \n*Audience members will stay in their cars\, listening to audio in the safety of their vehicle. \n*The production runs only 35 minutes for everyone’s comfort. \n*TICKETS ARE REQUIRED and donation-based. Donate what you can\, based on the number of audience members in your car. If you are suffering financially right now\, as so many people are\, come for free! There are very limited spots so reservations are necessary. \nSafety precautions:\n*Vehicles may have as many people in them as legally allowed\, but should only consist of people who have already been quarantined together. We have no problem with a car of one taking a parking spot!\n*Please bring masks\, in case you need to unroll your windows\, as cars will be parked next to each other.\n*You will technically have access to our bathrooms if needed\, but we would prefer everyone stay in their cars at all times. It’s a short show. Plan accordingly.\n*Performers will not be close to each other or you.
URL:https://buntport.com/show/the-grasshoppers-2020-06-18/
LOCATION:717 Lipan Street\, Denver\, CO\, 80204\, United States
CATEGORIES:Main Stage,Special Events
END:VEVENT
END:VCALENDAR